Workbook

Sheet Анкета
C1: АНКЕТА КОНТРАГЕНТА ЮРИДИЧЕСКОГО ЛИЦА
F2: Дата составления анкеты | G2: ____________
A4: ОБЩАЯ ИНФОРМАЦИЯ
A6: Сокращенное наименование организации | F6: ИНН Контрагента
A7: ____________ | F7: ____________
A9: Фактический адрес (указать если отличается от адреса места нахождения) | D9: ____________
A11: Адрес склада/производства (указать если отличается от фактического адреса) | D11: ____________
A13: E-mail | B13: ____________ | C13: Телефон | D13: ____________ | E13: Сайт | F13: ____________
A15: РУКОВОДИТЕЛЬ ОРГАНИЗАЦИИ
A17: Должность | B17: ____________ | D17: ФИО | E17: ____________
A19: Дата рождения | B19: Паспортные данные | F19: Контактные телефоны
B20: Серия и номер | C20: Дата выдачи | D20: E-mail | F20: Мобильный | G20: Рабочий
A21: ____________ | B21: ____________ | C21: ____________ | D21: ____________ | F21: ____________ | G21: ____________
A23: Адрес регистрации | C23: ____________
A25: СТРУКТУРА ВЛАДЕНИЯ
A27: Участники физические лица
A28: Фамилия Имя Отчество | C28: Дата рождения | D28: Паспортные данные | F28: ИНН | G28: Доля
D29: Серия и номер | E29: Дата выдачи
A30: ____________ | C30: ____________ | D30: ____________ | E30: ____________ | F30: ____________ | G30: ____________
A31: ____________ | C31: ____________ | D31: ____________ | E31: ____________ | F31: ____________ | G31: ____________
A32: ____________ | C32: ____________ | D32: ____________ | E32: ____________ | F32: ____________ | G32: ____________
A33: ____________ | C33: ____________ | D33: ____________ | E33: ____________ | F33: ____________ | G33: ____________
A34: Участники юридические лица
A35: Наименование компании | F35: ИНН | G35: Доля
A41: БЕНЕФИЦИАРНЫЕ ВЛАДЕЛЬЦЫ*
A42: *Физические лица, которые в конечном счете прямо или косвенно (через третьих лиц) владеют организацией, либо имеют возможность контролировать действия организации.
A43: Фамилия Имя Отчество | C43: Дата рождения | D43: Паспортные данные | F43: ИНН | G43: Доля
D44: Серия и номер | E44: Дата выдачи
A45: ____________ | C45: ____________ | D45: ____________ | E45: ____________ | F45: ____________ | G45: ____________
A46: ____________ | C46: ____________ | D46: ____________ | E46: ____________ | F46: ____________ | G46: ____________
A47: ____________ | C47: ____________ | D47: ____________ | E47: ____________ | F47: ____________ | G47: ____________
A48: ____________ | C48: ____________ | D48: ____________ | E48: ____________ | F48: ____________ | G48: ____________
A50: БАНКОВСКИЕ РЕКВИЗИТЫ (для указания в договорах)
A52: Расчетный счет | C52: Наименование Банка | G52: БИК
A53: ____________ | C53: ____________ | G53: ____________
A54: В соответствии с Федеральным законом № 218-ФЗ «О кредитных историях» ____________ (ИНН ____________)
A55: дает согласие АО ЛК «Роделен» (ИНН 7813379412) на получение и хранение из любого бюро кредитных историй информации / кредитных отчетов о себе. Согласие дается для подтверждения платежеспособности и кредитоспособности.
A56: В соответствии с Федеральным законом № 152-ФЗ «О персональных данных» ____________ (ИНН ____________)
A57: дает согласие АО ЛК «Роделен» (ИНН 7813379412) на осуществление действий, направленных на проверку, сбор, обработку, хранение, пользование, накопление, распространение, предоставление, передачу персональных данных (далее – обработка персональных данных), указанных в настоящей анкете, и каких-либо иных сведений в целях заключения и исполнения договоров с участием АО ЛК «Роделен», а также для обеспечения соблюдения законов и иных нормативно-правовых актов. Настоящим подтверждает, что согласие лиц, чьи персональные данные указаны в настоящей анкете, получено им надлежащим образом, в порядке, установленном действующим законодательством Российской Федерации.
A58: ____________ (ИНН ____________) (далее - Контрагент) также:
...

Sheet техлист
B2: полное наименование лп
A3: НАИМЕНОВАНИЕ_ЛП | B3: краткое наименование лп | C3: =Анкета!A7 -> 0
A4: ЮР_АДРЕС_ЛП | B4: юридический адрес лп
A5: ФАКТ_АДРЕС_ЛП | B5: фактический адрес лп | C5: =Анкета!D9 -> 0
A6: АДРЕС_ПРОИЗВОДСТВА_ЛП | B6: адрес склада/производства лп | C6: =Анкета!D11 -> 0
A7: ИНН_ЛП | B7: ИНН лп | C7: =Анкета!F7 -> 0
A8: КПП_ЛП | B8: КПП лп
A9: ОГРН_ЛП | B9: ОГРН лп
A10: ОКПО_ЛП | B10: ОКПО лп
A11: ТЕЛЕФОН_ЛП | B11: Телефон лп | C11: =Анкета!D13 -> 0
A12: ФАКТ_ЛП | B12: факс лп
A13: САЙТ_ЛП | B13: сайт лп | C13: =Анкета!F13 -> 0
A14: MAIL_ЛП | B14: e-mail лп | C14: =Анкета!B13 -> 0
A15: РСЧ_ЛП_1 | B15: Р/сч ЛП 1 | C15: =Анкета!A53 -> 0
A16: БАНК_ЛП_1 | B16: банк ЛП 1 | C16: =Анкета!C53 -> 0
A17: КСЧ_ЛП_1 | B17: К/сч Банка ЛП 1
A18: БИК_БАНКА_ЛП_1 | B18: БИК Банка ЛП 1 | C18: =Анкета!G53 -> 0
A19: РСЧ_ЛП_2 | B19: Р/сч ЛП 2
A20: БАНК_ЛП_2 | B20: банк ЛП 2
A21: КСЧ_ЛП_2 | B21: К/сч Банка ЛП 2
A22: БИК_БАНКА_ЛП_2 | B22: БИК Банка ЛП 2
A23: РСЧ_ЛП_3 | B23: Р/сч ЛП 3
A24: БАНК_ЛП_3 | B24: банк ЛП 3
A25: КСЧ_ЛП_3 | B25: К/сч Банка ЛП 3
A26: БИК_БАНКА_ЛП_3 | B26: БИК Банка ЛП 3
A27: УЧАСТНИК_ЛП_ЮР_1 | B27: Участник юр 1 | C27: =Анкета!A36 -> 0
A28: ИНН_УЧАСТНИК_ЮР_1 | B28: ИНН участника юр 1 | C28: =Анкета!F36 -> 0
A29: ДОЛЯ_УЧАСТНИКА_ЮР_1 | B29: доля участника юр 1 | C29: =Анкета!G36 -> 0
A30: УЧАСТНИК_ЛП_ЮР_2 | B30: Участник юр 2 | C30: =Анкета!A37 -> 0
A31: ИНН_УЧАСТНИК_ЮР_2 | B31: ИНН участника юр 2 | C31: =Анкета!F37 -> 0
A32: ДОЛЯ_УЧАСТНИКА_ЮР_2 | B32: доля участника юр 2 | C32: =Анкета!G37 -> 0
A33: УЧАСТНИК_ЛП_ЮР_3 | B33: Участник юр 3 | C33: =Анкета!A38 -> 0
A34: ИНН_УЧАСТНИК_ЮР_3 | B34: ИНН участника юр 3 | C34: =Анкета!F38 -> 0
A35: ДОЛЯ_УЧАСТНИКА_ЮР_3 | B35: Доля участника юр 3 | C35: =Анкета!G38 -> 0
A36: УЧАСТНИК_ЛП_ЮР_4 | B36: Участник юр 4 | C36: =Анкета!A39 -> 0
A37: ИНН_УЧАСТНИК_ЮР_4 | B37: ИНН участника юр 4 | C37: =Анкета!F39 -> 0
A38: ДОЛЯ_УЧАСТНИКА_ЮР_4 | B38: Доля участника юр 4 | C38: =Анкета!G39 -> 0
A39: УЧАСТНИК_ЛП_ЮР_5 | B39: Участник юр 5 | C39: =Анкета!#REF! -> #REF!
A40: ИНН_УЧАСТНИК_ЮР_5 | B40: ИНН участника юр 5 | C40: =Анкета!#REF! -> #REF!
A41: ДОЛЯ_УЧАСТНИКА_ЮР_5 | B41: доля участника юр 5 | C41: =Анкета!#REF! -> #REF!
...

Sheet Описание деятельности
A2: Описание деятельности Контрагента | B2: Дата | C2: ____________
A4: Наименование Контрагента | B4: ____________
A5: Описание бизнеса (история, факты, краткий анализ рынка, характеристика деятельности; характеристика поставщиков и покупателей; конкуренция) | B5: ____________
A6: Описание Группы компаний (если компания входит в холдинг или в группу компаний, предоставить список юридических лиц, входящих в ГК, с указанием наименования, ИНН, рода деятельности и места, занимаемого в ГК. Также описать связи компаний, которые касаются займов, кредитов, поручительств, гарантий)
A7: Активы компании (основные средства, недвижимость, складские запасы, прочие активы, адреса их местонахождения с указанием основания пользования помещением(ями) - аренда / собственность)
A9: Руководитель организации ____________________________________/ | B9: ____________________________________________________________________
A10: подпись | B10: расшифровка подписи
A11: М.П.
